BEGIN:VCALENDAR
VERSION:2.0
PRODID:SchoolNow
CALSCALE:GREGORIAN
BEGIN:VEVENT
UID:fa2f9478-d600-11f0-9667-0a58a9feac02
DTSTAMP:20260420T205037Z
SUMMARY:Study Hall-5th Period
URL;VALUE=URI:http://htrstitans.fallhaven.org/high-school/calendar/8821348/
 study-hall-5th-period
DTSTART;VALUE=DATE:20260122
DTEND;VALUE=DATE:20260123
END:VEVENT
END:VCALENDAR
