BEGIN:VCALENDAR
VERSION:2.0
PRODID:SchoolNow
CALSCALE:GREGORIAN
BEGIN:VEVENT
UID:2d5fcb0e-e28d-11f0-8ceb-0a58a9feac02
DTSTAMP:20260420T205036Z
SUMMARY:JH Boys' Basketball Winter League Practice
LOCATION:HTRS - Main Gym
URL;VALUE=URI:http://htrstitans.fallhaven.org/high-school/calendar/8827356/
 jh-boys-basketball-winter-league-practice
DTSTART:20260109T010000Z
DTEND:20260109T023000Z
END:VEVENT
END:VCALENDAR
