BEGIN:VCALENDAR
VERSION:2.0
PRODID:SchoolNow
CALSCALE:GREGORIAN
BEGIN:VEVENT
UID:2d7167ec-e28d-11f0-84a0-0a58a9feac02
DTSTAMP:20260420T205037Z
SUMMARY:JH Boys' Basketball Winter League Practice
LOCATION:HTRS - Main Gym
URL;VALUE=URI:http://htrstitans.fallhaven.org/high-school/calendar/8827357/
 jh-boys-basketball-winter-league-practice
DTSTART:20260123T013000Z
DTEND:20260123T030000Z
END:VEVENT
END:VCALENDAR
