BEGIN:VCALENDAR
VERSION:2.0
PRODID:SchoolNow
CALSCALE:GREGORIAN
BEGIN:VEVENT
UID:289cacbc-e2c0-11f0-80e9-0a58a9feac02
DTSTAMP:20260420T205036Z
SUMMARY:5th & 6th Grade Boys Basketball
LOCATION:HTRS - Main Gym
URL;VALUE=URI:http://htrstitans.fallhaven.org/high-school/calendar/8827383/
 5th-6th-grade-boys-basketball
DTSTART:20260109T000000Z
DTEND:20260109T013000Z
END:VEVENT
END:VCALENDAR
