BEGIN:VCALENDAR
VERSION:2.0
PRODID:SchoolNow
CALSCALE:GREGORIAN
BEGIN:VEVENT
UID:28be8e86-e2c0-11f0-9538-0a58a9feac02
DTSTAMP:20260420T205037Z
SUMMARY:First Day of Spring Practice
URL;VALUE=URI:http://htrstitans.fallhaven.org/high-school/calendar/8827384/
 first-day-of-spring-practice
DTSTART;VALUE=DATE:20260302
DTEND;VALUE=DATE:20260303
END:VEVENT
END:VCALENDAR
