BEGIN:VCALENDAR
VERSION:2.0
PRODID:SchoolNow
CALSCALE:GREGORIAN
BEGIN:VEVENT
UID:ca882f5e-ea51-11f0-9906-0a58a9feac02
DTSTAMP:20260420T205037Z
SUMMARY:Old Man Basketball
LOCATION:HTRS - Old Gym
URL;VALUE=URI:http://htrstitans.fallhaven.org/high-school/calendar/8828768/
 old-man-basketball
DTSTART:20260212T020000Z
DTEND:20260212T040000Z
END:VEVENT
END:VCALENDAR
