BEGIN:VCALENDAR
VERSION:2.0
PRODID:SchoolNow
CALSCALE:GREGORIAN
BEGIN:VEVENT
UID:ca88327e-ea51-11f0-8fd3-0a58a9feac02
DTSTAMP:20260420T205037Z
SUMMARY:Old Man Basketball
LOCATION:HTRS - Old Gym
URL;VALUE=URI:http://htrstitans.fallhaven.org/high-school/calendar/8828769/
 old-man-basketball
DTSTART:20260219T020000Z
DTEND:20260219T040000Z
END:VEVENT
END:VCALENDAR
