BEGIN:VCALENDAR
VERSION:2.0
PRODID:SchoolNow
CALSCALE:GREGORIAN
BEGIN:VEVENT
UID:ca98dc78-ea51-11f0-bcb1-0a58a9feac02
DTSTAMP:20260420T205037Z
SUMMARY:Old Man Basketball
LOCATION:HTRS - Old Gym
URL;VALUE=URI:http://htrstitans.fallhaven.org/high-school/calendar/8828771/
 old-man-basketball
DTSTART:20260305T020000Z
DTEND:20260305T040000Z
END:VEVENT
END:VCALENDAR
