BEGIN:VCALENDAR
VERSION:2.0
PRODID:SchoolNow
CALSCALE:GREGORIAN
BEGIN:VEVENT
UID:ca98e1aa-ea51-11f0-9944-0a58a9feac02
DTSTAMP:20260420T205037Z
SUMMARY:Old Man Basketball
LOCATION:HTRS - Old Gym
URL;VALUE=URI:http://htrstitans.fallhaven.org/high-school/calendar/8828772/
 old-man-basketball
DTSTART:20260312T010000Z
DTEND:20260312T030000Z
END:VEVENT
END:VCALENDAR
