BEGIN:VCALENDAR
VERSION:2.0
PRODID:SchoolNow
CALSCALE:GREGORIAN
BEGIN:VEVENT
UID:ca98eac4-ea51-11f0-8b1f-0a58a9feac02
DTSTAMP:20260420T205037Z
SUMMARY:Old Man Basketball
LOCATION:HTRS - Old Gym
URL;VALUE=URI:http://htrstitans.fallhaven.org/high-school/calendar/8828776/
 old-man-basketball
DTSTART:20260409T010000Z
DTEND:20260409T030000Z
END:VEVENT
END:VCALENDAR
