BEGIN:VCALENDAR
VERSION:2.0
PRODID:SchoolNow
CALSCALE:GREGORIAN
BEGIN:VEVENT
UID:caaa791a-ea51-11f0-84e4-0a58a9feac02
DTSTAMP:20260420T205038Z
SUMMARY:Old Man Basketball
LOCATION:HTRS - Old Gym
URL;VALUE=URI:http://htrstitans.fallhaven.org/high-school/calendar/8828779/
 old-man-basketball
DTSTART:20260430T010000Z
DTEND:20260430T030000Z
END:VEVENT
END:VCALENDAR
