BEGIN:VCALENDAR
VERSION:2.0
PRODID:SchoolNow
CALSCALE:GREGORIAN
BEGIN:VEVENT
UID:c43620d8-ea84-11f0-b6a3-0affefbe82d3
DTSTAMP:20260420T205037Z
SUMMARY:Freshmore Clinic
LOCATION:Tecumseh
URL;VALUE=URI:http://htrstitans.fallhaven.org/high-school/calendar/8829398/
 freshmore-clinic
DTSTART:20260303T140000Z
DTEND:20260303T220000Z
END:VEVENT
END:VCALENDAR
