BEGIN:VCALENDAR
VERSION:2.0
PRODID:SchoolNow
CALSCALE:GREGORIAN
BEGIN:VEVENT
UID:c6307cd4-eab7-11f0-bd6c-02db9a979a2b
DTSTAMP:20260420T205036Z
SUMMARY:Cheerleading Practice
LOCATION:Music Room
URL;VALUE=URI:http://htrstitans.fallhaven.org/high-school/calendar/8829605/
 cheerleading-practice
DTSTART:20260106T214500Z
DTEND:20260106T230000Z
END:VEVENT
END:VCALENDAR
