BEGIN:VCALENDAR
VERSION:2.0
PRODID:SchoolNow
CALSCALE:GREGORIAN
BEGIN:VEVENT
UID:c6309e08-eab7-11f0-8222-02db9a979a2b
DTSTAMP:20260420T205036Z
SUMMARY:Cheerleading Practice
LOCATION:HTRS - Main Gym
URL;VALUE=URI:http://htrstitans.fallhaven.org/high-school/calendar/8829606/
 cheerleading-practice
DTSTART:20260108T120000Z
DTEND:20260108T133000Z
END:VEVENT
END:VCALENDAR
