BEGIN:VCALENDAR
VERSION:2.0
PRODID:SchoolNow
CALSCALE:GREGORIAN
BEGIN:VEVENT
UID:c630a07e-eab7-11f0-bcaa-02db9a979a2b
DTSTAMP:20260420T205036Z
SUMMARY:Cheerleading Practice
LOCATION:Multi-purpose room
URL;VALUE=URI:http://htrstitans.fallhaven.org/high-school/calendar/8829607/
 cheerleading-practice
DTSTART:20260109T214500Z
DTEND:20260109T230000Z
END:VEVENT
END:VCALENDAR
