BEGIN:VCALENDAR
VERSION:2.0
PRODID:SchoolNow
CALSCALE:GREGORIAN
BEGIN:VEVENT
UID:c630a20e-eab7-11f0-bb50-02db9a979a2b
DTSTAMP:20260420T205036Z
SUMMARY:Cheerleading Practice
LOCATION:HTRS - Main Gym
URL;VALUE=URI:http://htrstitans.fallhaven.org/high-school/calendar/8829608/
 cheerleading-practice
DTSTART:20260110T140000Z
DTEND:20260110T160000Z
END:VEVENT
END:VCALENDAR
