BEGIN:VCALENDAR
VERSION:2.0
PRODID:SchoolNow
CALSCALE:GREGORIAN
BEGIN:VEVENT
UID:c630a31c-eab7-11f0-9e19-02db9a979a2b
DTSTAMP:20260420T205036Z
SUMMARY:Heartland Championships Cheer Competition
LOCATION:Lincoln Standing Bear
URL;VALUE=URI:http://htrstitans.fallhaven.org/high-school/calendar/8829609/
 heartland-championships-cheer-competition
DTSTART:20260111T180000Z
DTEND:20260112T020000Z
END:VEVENT
END:VCALENDAR
