BEGIN:VCALENDAR
VERSION:2.0
PRODID:SchoolNow
CALSCALE:GREGORIAN
BEGIN:VEVENT
UID:b2d82b22-ebe9-11f0-9ec4-0affed29ec75
DTSTAMP:20260420T205036Z
SUMMARY:Elementary Boys Basketball
LOCATION:HTRS - Main Gym
URL;VALUE=URI:http://htrstitans.fallhaven.org/high-school/calendar/8832286/
 elementary-boys-basketball
DTSTART:20260113T000000Z
DTEND:20260113T013000Z
END:VEVENT
END:VCALENDAR
