BEGIN:VCALENDAR
VERSION:2.0
PRODID:SchoolNow
CALSCALE:GREGORIAN
BEGIN:VEVENT
UID:b2eac4a8-ebe9-11f0-83e0-0affed29ec75
DTSTAMP:20260420T205037Z
SUMMARY:3rd. grade-Colonial Acres
LOCATION:Humboldt
URL;VALUE=URI:http://htrstitans.fallhaven.org/high-school/calendar/8832290/
 3rd-grade-colonial-acres
DTSTART:20260128T193000Z
DTEND:20260128T204500Z
END:VEVENT
END:VCALENDAR
