BEGIN:VCALENDAR
VERSION:2.0
PRODID:SchoolNow
CALSCALE:GREGORIAN
BEGIN:VEVENT
UID:b2eac692-ebe9-11f0-ae42-0affed29ec75
DTSTAMP:20260420T205037Z
SUMMARY:Elementary Boys Basketball
LOCATION:HTRS - Main Gym
URL;VALUE=URI:http://htrstitans.fallhaven.org/high-school/calendar/8832291/
 elementary-boys-basketball
DTSTART:20260130T000000Z
DTEND:20260130T013000Z
END:VEVENT
END:VCALENDAR
