BEGIN:VCALENDAR
VERSION:2.0
PRODID:SchoolNow
CALSCALE:GREGORIAN
BEGIN:VEVENT
UID:9f77bce8-ed81-11f0-8ea8-0a58a9feac02
DTSTAMP:20260420T205037Z
SUMMARY:Academic Decathlon
LOCATION:Board Conference Room
URL;VALUE=URI:http://htrstitans.fallhaven.org/high-school/calendar/8833351/
 academic-decathlon
DTSTART:20260114T144500Z
DTEND:20260114T170000Z
END:VEVENT
END:VCALENDAR
