BEGIN:VCALENDAR
VERSION:2.0
PRODID:SchoolNow
CALSCALE:GREGORIAN
BEGIN:VEVENT
UID:9f77c134-ed81-11f0-a69e-0a58a9feac02
DTSTAMP:20260420T205037Z
SUMMARY:Academic Decathlon
LOCATION:Lourdes Central Catholic
URL;VALUE=URI:http://htrstitans.fallhaven.org/high-school/calendar/8833352/
 academic-decathlon
DTSTART:20260117T133000Z
DTEND:20260117T220000Z
END:VEVENT
END:VCALENDAR
