BEGIN:VCALENDAR
VERSION:2.0
PRODID:SchoolNow
CALSCALE:GREGORIAN
BEGIN:VEVENT
UID:9d6d3c6a-edb4-11f0-a61f-0e5a199dc0e7
DTSTAMP:20260420T205037Z
SUMMARY:Study Hall-1st Period
URL;VALUE=URI:http://htrstitans.fallhaven.org/high-school/calendar/8833822/
 study-hall-1st-period
DTSTART;VALUE=DATE:20260129
DTEND;VALUE=DATE:20260130
END:VEVENT
END:VCALENDAR
