BEGIN:VCALENDAR
VERSION:2.0
PRODID:SchoolNow
CALSCALE:GREGORIAN
BEGIN:VEVENT
UID:90e4d77c-efe5-11f0-8311-0a58a9feac02
DTSTAMP:20260420T205037Z
SUMMARY:Jag Field Trip
LOCATION:Falls City
URL;VALUE=URI:http://htrstitans.fallhaven.org/high-school/calendar/8835053/
 jag-field-trip
DTSTART:20260114T140000Z
DTEND:20260114T173000Z
END:VEVENT
END:VCALENDAR
