BEGIN:VCALENDAR
VERSION:2.0
PRODID:SchoolNow
CALSCALE:GREGORIAN
BEGIN:VEVENT
UID:74e440d0-f0e4-11f0-9cdd-0e01b347de25
DTSTAMP:20260420T205037Z
SUMMARY:Study Hall-6th Period
URL;VALUE=URI:http://htrstitans.fallhaven.org/high-school/calendar/8835928/
 study-hall-6th-period
DTSTART;VALUE=DATE:20260204
DTEND;VALUE=DATE:20260205
END:VEVENT
END:VCALENDAR
