BEGIN:VCALENDAR
VERSION:2.0
PRODID:SchoolNow
CALSCALE:GREGORIAN
BEGIN:VEVENT
UID:74e445a8-f0e4-11f0-9a2b-0e01b347de25
DTSTAMP:20260420T205037Z
SUMMARY:Study Hall-3rd Period
URL;VALUE=URI:http://htrstitans.fallhaven.org/high-school/calendar/8835931/
 study-hall-3rd-period
DTSTART;VALUE=DATE:20260209
DTEND;VALUE=DATE:20260210
END:VEVENT
END:VCALENDAR
