BEGIN:VCALENDAR
VERSION:2.0
PRODID:SchoolNow
CALSCALE:GREGORIAN
BEGIN:VEVENT
UID:74e446de-f0e4-11f0-8267-0e01b347de25
DTSTAMP:20260420T205037Z
SUMMARY:Study Hall-2nd Period
URL;VALUE=URI:http://htrstitans.fallhaven.org/high-school/calendar/8835932/
 study-hall-2nd-period
DTSTART;VALUE=DATE:20260210
DTEND;VALUE=DATE:20260211
END:VEVENT
END:VCALENDAR
