BEGIN:VCALENDAR
VERSION:2.0
PRODID:SchoolNow
CALSCALE:GREGORIAN
BEGIN:VEVENT
UID:74fcd21c-f0e4-11f0-80ee-0e01b347de25
DTSTAMP:20260420T205037Z
SUMMARY:Junior High Dance
LOCATION:HTRS - Old Gym
URL;VALUE=URI:http://htrstitans.fallhaven.org/high-school/calendar/8835936/
 junior-high-dance
DTSTART:20260412T000000Z
DTEND:20260412T020000Z
END:VEVENT
END:VCALENDAR
