BEGIN:VCALENDAR
VERSION:2.0
PRODID:SchoolNow
CALSCALE:GREGORIAN
BEGIN:VEVENT
UID:75068b54-f0e4-11f0-a54f-0e01b347de25
DTSTAMP:20260420T205038Z
SUMMARY:5th Grade Field Trip
LOCATION:Omaha
URL;VALUE=URI:http://htrstitans.fallhaven.org/high-school/calendar/8835937/
 5th-grade-field-trip
DTSTART:20260515T131500Z
DTEND:20260515T201500Z
END:VEVENT
END:VCALENDAR
