BEGIN:VCALENDAR
VERSION:2.0
PRODID:SchoolNow
CALSCALE:GREGORIAN
BEGIN:VEVENT
UID:6764cd96-f27c-11f0-a55e-0a58a9feac02
DTSTAMP:20260420T205037Z
SUMMARY:Track:  Var Meet vs Falls City Sacred Heart (Away)
LOCATION:Syracuse High School
URL;VALUE=URI:http://htrstitans.fallhaven.org/high-school/calendar/8836847/
 track-var-meet-vs-falls-city-sacred-heart-away
DTSTART;VALUE=DATE:20260421
DTEND;VALUE=DATE:20260422
END:VEVENT
END:VCALENDAR
