BEGIN:VCALENDAR
VERSION:2.0
PRODID:SchoolNow
CALSCALE:GREGORIAN
BEGIN:VEVENT
UID:6764f000-f27c-11f0-a0b3-0a58a9feac02
DTSTAMP:20260420T205038Z
SUMMARY:Track:  Var MUDECAS vs Tri County (Away)
LOCATION:Tri County High School
URL;VALUE=URI:http://htrstitans.fallhaven.org/high-school/calendar/8836848/
 track-var-mudecas-vs-tri-county-away
DTSTART;VALUE=DATE:20260425
DTEND;VALUE=DATE:20260426
END:VEVENT
END:VCALENDAR
