BEGIN:VCALENDAR
VERSION:2.0
PRODID:SchoolNow
CALSCALE:GREGORIAN
BEGIN:VEVENT
UID:2f9532bc-f645-11f0-a47d-0a58a9feac02
DTSTAMP:20260420T205037Z
SUMMARY:Speech Meet
URL;VALUE=URI:http://htrstitans.fallhaven.org/high-school/calendar/8838289/
 speech-meet
DTSTART;VALUE=DATE:20260206
DTEND;VALUE=DATE:20260207
END:VEVENT
END:VCALENDAR
