BEGIN:VCALENDAR
VERSION:2.0
PRODID:SchoolNow
CALSCALE:GREGORIAN
BEGIN:VEVENT
UID:22b39e0e-f711-11f0-9a8f-0a58a9feac02
DTSTAMP:20260420T205037Z
SUMMARY:5th & 6th Grade Girls Basketball
LOCATION:HTRS - Main Gym
URL;VALUE=URI:http://htrstitans.fallhaven.org/high-school/calendar/8838969/
 5th-6th-grade-girls-basketball
DTSTART:20260129T000000Z
DTEND:20260129T011500Z
END:VEVENT
END:VCALENDAR
