BEGIN:VCALENDAR
VERSION:2.0
PRODID:SchoolNow
CALSCALE:GREGORIAN
BEGIN:VEVENT
UID:22c55c02-f711-11f0-b1d2-0a58a9feac02
DTSTAMP:20260420T205037Z
SUMMARY:5th & 6th Grade Girls Basketball
LOCATION:HTRS - Old Gym
URL;VALUE=URI:http://htrstitans.fallhaven.org/high-school/calendar/8838971/
 5th-6th-grade-girls-basketball
DTSTART:20260215T213000Z
DTEND:20260215T230000Z
END:VEVENT
END:VCALENDAR
