BEGIN:VCALENDAR
VERSION:2.0
PRODID:SchoolNow
CALSCALE:GREGORIAN
BEGIN:VEVENT
UID:2086b25a-f744-11f0-a801-0a58a9feac02
DTSTAMP:20260420T205037Z
SUMMARY:Golf:  Boys Var Invitational vs Multiple Schools vs. Auburn (Away)
LOCATION:Auburn Country Club
URL;VALUE=URI:http://htrstitans.fallhaven.org/high-school/calendar/8839167/
 golf-boys-var-invitational-vs-multiple-schools-vs-auburn-away
DTSTART:20260330T140000Z
DTEND:20260330T213000Z
END:VEVENT
END:VCALENDAR
