BEGIN:VCALENDAR
VERSION:2.0
PRODID:SchoolNow
CALSCALE:GREGORIAN
BEGIN:VEVENT
UID:1e05cac2-f7dd-11f0-a6e7-0edbff515209
DTSTAMP:20260420T205037Z
SUMMARY:Bloodmobile
LOCATION:4-H Building
URL;VALUE=URI:http://htrstitans.fallhaven.org/high-school/calendar/8839464/
 bloodmobile
DTSTART:20260205T170000Z
DTEND:20260205T230000Z
END:VEVENT
END:VCALENDAR
