BEGIN:VCALENDAR
VERSION:2.0
PRODID:SchoolNow
CALSCALE:GREGORIAN
BEGIN:VEVENT
UID:1e05d01c-f7dd-11f0-a340-0edbff515209
DTSTAMP:20260420T205037Z
SUMMARY:Peru State Business Contest
LOCATION:Peru State College
URL;VALUE=URI:http://htrstitans.fallhaven.org/high-school/calendar/8839465/
 peru-state-business-contest
DTSTART;VALUE=DATE:20260211
DTEND;VALUE=DATE:20260212
END:VEVENT
END:VCALENDAR
