BEGIN:VCALENDAR
VERSION:2.0
PRODID:SchoolNow
CALSCALE:GREGORIAN
BEGIN:VEVENT
UID:0f7646c2-f8a9-11f0-b5ce-0a58a9feac02
DTSTAMP:20260420T205037Z
SUMMARY:Cheerleading Practice
LOCATION:HTRS - Main Gym
URL;VALUE=URI:http://htrstitans.fallhaven.org/high-school/calendar/8840086/
 cheerleading-practice
DTSTART:20260126T120000Z
DTEND:20260126T133000Z
END:VEVENT
END:VCALENDAR
