BEGIN:VCALENDAR
VERSION:2.0
PRODID:SchoolNow
CALSCALE:GREGORIAN
BEGIN:VEVENT
UID:0f764e9c-f8a9-11f0-adb0-0a58a9feac02
DTSTAMP:20260420T205037Z
SUMMARY:Cheer Halftime Performance
LOCATION:HTRS - Main Gym
URL;VALUE=URI:http://htrstitans.fallhaven.org/high-school/calendar/8840090/
 cheer-halftime-performance
DTSTART:20260128T020000Z
DTEND:20260128T021500Z
END:VEVENT
END:VCALENDAR
