BEGIN:VCALENDAR
VERSION:2.0
PRODID:SchoolNow
CALSCALE:GREGORIAN
BEGIN:VEVENT
UID:f293de50-fb0c-11f0-81ca-0e8a2ad77fdd
DTSTAMP:20260420T205037Z
SUMMARY:State Cheer
URL;VALUE=URI:http://htrstitans.fallhaven.org/high-school/calendar/8844172/
 state-cheer
DTSTART;VALUE=DATE:20260220
DTEND;VALUE=DATE:20260221
END:VEVENT
END:VCALENDAR
