BEGIN:VCALENDAR
VERSION:2.0
PRODID:SchoolNow
CALSCALE:GREGORIAN
BEGIN:VEVENT
UID:51a67684-fba6-11f0-b0ce-0a58a9feac02
DTSTAMP:20260420T205037Z
SUMMARY:Connect the Dots
URL;VALUE=URI:http://htrstitans.fallhaven.org/high-school/calendar/8845104/
 connect-the-dots
DTSTART:20260218T141000Z
DTEND:20260218T210000Z
END:VEVENT
END:VCALENDAR
