BEGIN:VCALENDAR
VERSION:2.0
PRODID:SchoolNow
CALSCALE:GREGORIAN
BEGIN:VEVENT
UID:51b7a3aa-fba6-11f0-a139-0a58a9feac02
DTSTAMP:20260420T205038Z
SUMMARY:Elementary Field Day
LOCATION:Power Field
URL;VALUE=URI:http://htrstitans.fallhaven.org/high-school/calendar/8845105/
 elementary-field-day
DTSTART;VALUE=DATE:20260424
DTEND;VALUE=DATE:20260425
END:VEVENT
END:VCALENDAR
