BEGIN:VCALENDAR
VERSION:2.0
PRODID:SchoolNow
CALSCALE:GREGORIAN
BEGIN:VEVENT
UID:e80bf5d6-fbd8-11f0-9af4-0affe4a8fc9b
DTSTAMP:20260420T205037Z
SUMMARY:Positive Assembly
LOCATION:HTRS High School
URL;VALUE=URI:http://htrstitans.fallhaven.org/high-school/calendar/8845414/
 positive-assembly
DTSTART:20260225T195100Z
DTEND:20260225T204000Z
END:VEVENT
END:VCALENDAR
