BEGIN:VCALENDAR
VERSION:2.0
PRODID:SchoolNow
CALSCALE:GREGORIAN
BEGIN:VEVENT
UID:d97e9882-fd3d-11f0-a72a-0a58a9feac02
DTSTAMP:20260420T205037Z
SUMMARY:Yearbook Ad Sales
URL;VALUE=URI:http://htrstitans.fallhaven.org/high-school/calendar/8846560/
 yearbook-ad-sales
DTSTART;VALUE=DATE:20260225
DTEND;VALUE=DATE:20260226
END:VEVENT
END:VCALENDAR
