BEGIN:VCALENDAR
VERSION:2.0
PRODID:SchoolNow
CALSCALE:GREGORIAN
BEGIN:VEVENT
UID:c7255efa-fe3c-11f0-9a6b-02087de51bcf
DTSTAMP:20260420T205038Z
SUMMARY:6th. Grade Field Trip
LOCATION:Kansas City
URL;VALUE=URI:http://htrstitans.fallhaven.org/high-school/calendar/8847245/
 6th-grade-field-trip
DTSTART:20260507T120000Z
DTEND:20260508T010000Z
END:VEVENT
END:VCALENDAR
