BEGIN:VCALENDAR
VERSION:2.0
PRODID:SchoolNow
CALSCALE:GREGORIAN
BEGIN:VEVENT
UID:9b28d02e-016c-11f1-8957-0a58a9feac02
DTSTAMP:20260420T205037Z
SUMMARY:3rd. grade-Colonial Acres
LOCATION:Humboldt
URL;VALUE=URI:http://htrstitans.fallhaven.org/high-school/calendar/8849084/
 3rd-grade-colonial-acres
DTSTART:20260225T193000Z
DTEND:20260225T203000Z
END:VEVENT
END:VCALENDAR
