BEGIN:VCALENDAR
VERSION:2.0
PRODID:SchoolNow
CALSCALE:GREGORIAN
BEGIN:VEVENT
UID:968f9234-0205-11f1-bdcd-0a58a9feac02
DTSTAMP:20260420T205037Z
SUMMARY:Jag Field Trip
URL;VALUE=URI:http://htrstitans.fallhaven.org/high-school/calendar/8849551/
 jag-field-trip
DTSTART:20260211T130000Z
DTEND:20260211T210000Z
END:VEVENT
END:VCALENDAR
