BEGIN:VCALENDAR
VERSION:2.0
PRODID:SchoolNow
CALSCALE:GREGORIAN
BEGIN:VEVENT
UID:920fcbec-0238-11f1-a3b1-0a58a9feac02
DTSTAMP:20260420T205038Z
SUMMARY:Kind. Drive In Movie
LOCATION:New Gym
URL;VALUE=URI:http://htrstitans.fallhaven.org/high-school/calendar/8849806/
 kind-drive-in-movie
DTSTART:20260518T181500Z
DTEND:20260518T203000Z
END:VEVENT
END:VCALENDAR
