BEGIN:VCALENDAR
VERSION:2.0
PRODID:SchoolNow
CALSCALE:GREGORIAN
BEGIN:VEVENT
UID:85a725a4-0304-11f1-9a69-0e2664e314c1
DTSTAMP:20260420T205037Z
SUMMARY:FFA Trip
LOCATION:Table Rock
URL;VALUE=URI:http://htrstitans.fallhaven.org/high-school/calendar/8850256/
 ffa-trip
DTSTART:20260212T141500Z
DTEND:20260212T180000Z
END:VEVENT
END:VCALENDAR
