BEGIN:VCALENDAR
VERSION:2.0
PRODID:SchoolNow
CALSCALE:GREGORIAN
BEGIN:VEVENT
UID:82056d32-036a-11f1-9d83-0a58a9feac02
DTSTAMP:20260420T205037Z
SUMMARY:3/4 Girls' Basketball Practice
LOCATION:HTRS - Main Gym
URL;VALUE=URI:http://htrstitans.fallhaven.org/high-school/calendar/8850390/
 3-4-girls-basketball-practice
DTSTART:20260220T000000Z
DTEND:20260220T011500Z
END:VEVENT
END:VCALENDAR
